BEGIN:VCALENDAR
VERSION:2.0
CALSCALE:GREGORIAN
PRODID:adamgibbons/ics
METHOD:PUBLISH
X-PUBLISHED-TTL:PT1H
BEGIN:VEVENT
UID:31980@puntello.org
SUMMARY:Cirko per Tuttx
DTSTAMP:20260421T082111Z
DTSTART:20260426T140000Z
URL:https://puntello.org/event/cirko-per-tuttx
LOCATION:Cascina Torchiera - Piazzale Cimitero Maggio 18\, Milano
STATUS:CONFIRMED
CATEGORIES:Cascina Torchiera,circo,convivialità
END:VEVENT
END:VCALENDAR
