BEGIN:VCALENDAR
VERSION:2.0
CALSCALE:GREGORIAN
PRODID:adamgibbons/ics
METHOD:PUBLISH
X-PUBLISHED-TTL:PT1H
BEGIN:VEVENT
UID:32080@puntello.org
SUMMARY:GIORNATA BAKUNIANA
DTSTAMP:20260425T224749Z
DTSTART:20260510T150000Z
URL:https://puntello.org/event/giornata-bakuniana
LOCATION:Ateneo libertario - Milano\, viale Monza 255
STATUS:CONFIRMED
CATEGORIES:anarchia,ateneolibertario,bakunin,cena,presentazione libri
END:VEVENT
END:VCALENDAR
