BEGIN:VCALENDAR
VERSION:2.0
CALSCALE:GREGORIAN
PRODID:adamgibbons/ics
METHOD:PUBLISH
X-PUBLISHED-TTL:PT1H
BEGIN:VEVENT
UID:32032@puntello.org
SUMMARY:HYPOCRISY - La vostra milano è un progetto insostenibile
DTSTAMP:20260422T085416Z
DTSTART:20260421T090000Z
DTEND:20260423T230000Z
URL:https://puntello.org/event/hypocrisy-la-vostra-milano-e-un-progetto-ins
	ostenibile
LOCATION:Università degli studi di Milano - Milano\, via Festa del Perdono 
	7
STATUS:CONFIRMED
CATEGORIES:arte,cantiere,dibattiti,fuorisalone,laboratori,musica,Socialità
END:VEVENT
BEGIN:VEVENT
UID:31790@puntello.org
SUMMARY:Here25tay - Festa per i primi 25 anni del Cantiere
DTSTAMP:20260422T085416Z
DTSTART:20260611T220000Z
DTEND:20260614T020000Z
URL:https://puntello.org/event/here25tay-festa-per-i-primi-25-anni-del-cant
	iere
LOCATION:Centro Sociale Cantiere - via Monterosa 84\, Milano
STATUS:CONFIRMED
CATEGORIES:occupazione,block party,serata,Resistenza,cantiere,cibo,convivia
	lità,dibattito,festival,musica
END:VEVENT
END:VCALENDAR
