BEGIN:VCALENDAR
VERSION:2.0
CALSCALE:GREGORIAN
PRODID:adamgibbons/ics
METHOD:PUBLISH
X-PUBLISHED-TTL:PT1H
BEGIN:VEVENT
UID:32067@puntello.org
SUMMARY:🌱"Dare forme al mondo. Per un design multinaturalista” presentazion
	e libro e cena - benefit CAAB🌱
DTSTAMP:20260421T115122Z
DTSTART:20260422T164500Z
DTEND:20260422T203000Z
URL:https://puntello.org/event/dare-forme-al-mondo-per-un-design-multinatur
	alista-presentazione-libro-e-cena-benefit-caab
LOCATION:ZAM - Milano\, via Sant'Abbondio 4
STATUS:CONFIRMED
CATEGORIES:ambiente,benefit legale,CAAB,cena,presentazione libro,staid,zam
END:VEVENT
END:VCALENDAR
