BEGIN:VCALENDAR
VERSION:2.0
CALSCALE:GREGORIAN
PRODID:adamgibbons/ics
METHOD:PUBLISH
X-PUBLISHED-TTL:PT1H
BEGIN:VEVENT
UID:31981@puntello.org
SUMMARY:BOBFEST vol. 3
DTSTAMP:20260422T171556Z
DTSTART:20260530T140000Z
DTEND:20260531T215900Z
URL:https://puntello.org/event/bobfest-vol-3
LOCATION:Cascina Torchiera - Piazzale Cimitero Maggio 18\, Milano
STATUS:CONFIRMED
CATEGORIES:BoBFEST,Cascina Torchiera
END:VEVENT
END:VCALENDAR
