BEGIN:VCALENDAR
VERSION:2.0
CALSCALE:GREGORIAN
PRODID:adamgibbons/ics
METHOD:PUBLISH
X-PUBLISHED-TTL:PT1H
BEGIN:VEVENT
UID:32071@puntello.org
SUMMARY:25 aprile Segrate
DTSTAMP:20260422T181744Z
DTSTART:20260425T073000Z
DTEND:20260425T100000Z
URL:https://puntello.org/event/25-aprile-segrate
LOCATION:Segrate cimitero - Via morandi
STATUS:CONFIRMED
CATEGORIES:
END:VEVENT
END:VCALENDAR
