BEGIN:VCALENDAR
VERSION:2.0
CALSCALE:GREGORIAN
PRODID:adamgibbons/ics
METHOD:PUBLISH
X-PUBLISHED-TTL:PT1H
BEGIN:VEVENT
UID:32053@puntello.org
SUMMARY:Cucina da Squat: Impara a cucinare per tante persone mentre ti dive
	rti!
DTSTAMP:20260422T085050Z
DTSTART:20260423T130000Z
DTEND:20260423T170000Z
URL:https://puntello.org/event/cucina-da-squat-impara-a-cucinare-per-tante-
	persone-mentre-ti-diverti
LOCATION:Socs26 - Via Celoria 22
STATUS:CONFIRMED
CATEGORIES:
END:VEVENT
BEGIN:VEVENT
UID:32054@puntello.org
SUMMARY:Giochiamo a Palla Prigioniera!
DTSTAMP:20260422T085050Z
DTSTART:20260426T130000Z
DTEND:20260426T160000Z
URL:https://puntello.org/event/giochiamo-a-palla-prigioniera
LOCATION:Socs26 - Via Celoria 22
STATUS:CONFIRMED
CATEGORIES:
END:VEVENT
BEGIN:VEVENT
UID:32063@puntello.org
SUMMARY:Laboratoria Teatrale Autogestita
DTSTAMP:20260422T085050Z
DTSTART:20260427T150000Z
DTEND:20260427T200000Z
URL:https://puntello.org/event/laboratoria-teatrale-autogestita-7
LOCATION:Socs26 - Via Celoria 22
STATUS:CONFIRMED
CATEGORIES:
END:VEVENT
END:VCALENDAR
