BEGIN:VCALENDAR
VERSION:2.0
CALSCALE:GREGORIAN
PRODID:adamgibbons/ics
METHOD:PUBLISH
X-PUBLISHED-TTL:PT1H
BEGIN:VEVENT
UID:32074@puntello.org
SUMMARY:Sick thoughts +  Lucta +  Narkan @ Casa occupata Gorizia
DTSTAMP:20260423T164312Z
DTSTART:20260506T190000Z
DTEND:20260506T220000Z
DESCRIPTION:Mercoledì 6 maggio 2026\nCasa occupata Gorizia - Milano (Mm por
	ta Genova)\n\nSick thoughts (Punk USA)\n\nLucta (Punk - Milano)\n\nNarkan 
	(Punk - Milano)\n\nInizio ore 21.30\nFine ore 00.00\n\nVieni presto e supp
	orta tutte le band!\nDiscriminata ogni forma di discriminazione.
URL:https://puntello.org/event/sick-thoughts-lucta-narkan-casa-occupata-gor
	izia
LOCATION:Casa Occupata Gorizia - Via Vigevano 2\, Milano
STATUS:CONFIRMED
CATEGORIES:
X-ALT-DESC;FMTTYPE=text/html:<p>Mercoledì 6 maggio 2026<br>Casa occupata Go
	rizia - Milano (Mm porta Genova)</p><p>Sick thoughts (Punk USA)</p><p>Luct
	a (Punk - Milano)</p><p>Narkan (Punk - Milano)</p><p>Inizio ore 21.30<br>F
	ine ore 00.00</p><p>Vieni presto e supporta tutte le band!<br>Discriminata
	 ogni forma di discriminazione.</p>
BEGIN:VALARM
ACTION:DISPLAY
DESCRIPTION:Sick thoughts +  Lucta +  Narkan @ Casa occupata Gorizia
TRIGGER:-PT1H
END:VALARM
END:VEVENT
END:VCALENDAR
