BEGIN:VCALENDAR
VERSION:2.0
CALSCALE:GREGORIAN
PRODID:adamgibbons/ics
METHOD:PUBLISH
X-PUBLISHED-TTL:PT1H
BEGIN:VEVENT
UID:32081@puntello.org
SUMMARY:SENTITI UOMO: pratiche di autocoscienza per decostruire la mascolin
	ità
DTSTAMP:20260426T025151Z
DTSTART:20260430T170000Z
DESCRIPTION:A TUTTE LE IDENTITÀ MASC e AMAB\n\nSono secoli che il modello t
	radizionale di maschilità macera allegramente nella\nsua insostenibile tos
	sicità\, nelle sue contraddizioni. Sembra impossibile uscire\nda questo ma
	re in burrasca\, poiché è l’educazione impartitaci stessa a farci\nimbotti
	gliare le nostre emozioni e a farle fermentare nella rabbia e nella\nviole
	nza.\n\nCi serve una risposta che parta dalla cura comunitaria per demolir
	e il marcio\nche ci rende complici del sistema e poter costruire assieme u
	na mascolinità\nplurale\, fluida e liberatrice.\n\nCostruiamo assieme un g
	ruppo di autocoscienza sui temi su cui ci sentiamo più\nvulnerabili e frag
	ili: stabiliamo assieme le pratiche di cura\, i metodi di\nconfronto\, i t
	emi e gli orizzonti che vogliamo sfidare.
URL:https://puntello.org/event/sentiti-uomo-pratiche-di-autocoscienza-per-d
	ecostruire-la-mascolinita
LOCATION:Socs26 - Via Celoria 22
STATUS:CONFIRMED
CATEGORIES:Autocoscienza,cura,queer,transfemminismo
X-ALT-DESC;FMTTYPE=text/html:<p><strong>A TUTTE LE IDENTITÀ MASC e AMAB</st
	rong></p><p>Sono secoli che il modello tradizionale di maschilità macera a
	llegramente nella sua insostenibile tossicità, nelle sue contraddizioni. S
	embra impossibile uscire da questo mare in burrasca, poiché è l’educazione
	 impartitaci stessa a farci imbottigliare le nostre emozioni e a farle fer
	mentare nella rabbia e nella violenza. </p><p>Ci serve una risposta che pa
	rta dalla cura comunitaria per demolire il marcio che ci rende complici de
	l sistema e poter costruire assieme una mascolinità plurale, fluida e libe
	ratrice.</p><p>Costruiamo assieme un gruppo di autocoscienza sui temi su c
	ui ci sentiamo più vulnerabili e fragili: stabiliamo assieme le pratiche d
	i cura, i metodi di confronto, i temi e gli orizzonti che vogliamo sfidare
	.</p>
BEGIN:VALARM
ACTION:DISPLAY
DESCRIPTION:SENTITI UOMO: pratiche di autocoscienza per decostruire la masc
	olinità
TRIGGER:-PT1H
END:VALARM
END:VEVENT
END:VCALENDAR
