BEGIN:VCALENDAR
VERSION:2.0
CALSCALE:GREGORIAN
PRODID:adamgibbons/ics
METHOD:PUBLISH
X-PUBLISHED-TTL:PT1H
BEGIN:VEVENT
UID:32069@puntello.org
SUMMARY:ROTTA COMUNE: NAVIGANDO IL MEDITERRANEO DELLA RESISTENZA
DTSTAMP:20260422T012858Z
DTSTART:20260424T170000Z
DTEND:20260424T220000Z
DESCRIPTION:ROTTA COMUNE: NAVIGANDO IL MEDITERRANEO DELLA RESISTENZA\n\nVen
	erdì sera saremo in collegamento con il mare.\n\nLe Thousand Madleens sono
	 di nuovo in viaggio: barche\, equipaggi\, civili che\nhanno scelto di non
	 restare a guardare mentre Gaza viene bombardata e affamata.\nUna flotta c
	he sfida il blocco illegale imposto da Israele con i corpi\, la\npresenza\
	, la determinazione di chi sa che certe frontiere vanno attraversate.\n\nL
	a sera del 24 aprile proietteremo il documentario sulla missione Madleens\
	,\nascolteremo le testimonianze di chi è a bordo\, faremo il punto sulla M
	issione\n2026 e apriremo il dibattito. Poi cena sociale insieme per finanz
	iare i progetti\ndi solidarietà con la Palestina.\n\nIl giorno dopo è il 2
	5 Aprile.\n\nNon a caso: le Flottiglie sono un atto di Resistenza nel sens
	o più concreto del\ntermine. Chi scende in mare per rompere un assedio\, c
	hi rischia in prima persona\nper portare solidarietà a un popolo che subis
	ce un genocidio\, sa benissimo cosa\nsta facendo e perché. Non c'è bisogno
	 di aggiungere altro\, soprattutto davanti\nal silenzio\, o alle falsità\,
	 di tanti parolai nostrani.\n\nCi vediamo venerdì.
URL:https://puntello.org/event/rotta-comune-navigando-il-mediterraneo-della
	-resistenza
LOCATION:CSA Baraonda - Segrate\, via Pacinotti 13
STATUS:CONFIRMED
CATEGORIES:
X-ALT-DESC;FMTTYPE=text/html:<p><em>ROTTA COMUNE: NAVIGANDO IL MEDITERRANEO
	 DELLA RESISTENZA</em></p><p>Venerdì sera saremo in collegamento con il ma
	re.</p><p>Le Thousand Madleens sono di nuovo in viaggio: barche, equipaggi
	, civili che hanno scelto di non restare a guardare mentre Gaza viene bomb
	ardata e affamata. Una flotta che sfida il blocco illegale imposto da Isra
	ele con i corpi, la presenza, la determinazione di chi sa che certe fronti
	ere vanno attraversate.</p><p>La sera del 24 aprile proietteremo il docume
	ntario sulla missione Madleens, ascolteremo le testimonianze di chi è a bo
	rdo, faremo il punto sulla Missione 2026 e apriremo il dibattito. Poi cena
	 sociale insieme per finanziare i progetti di solidarietà con la Palestina
	.</p><p>Il giorno dopo è il 25 Aprile.</p><p>Non a caso: le Flottiglie son
	o un atto di Resistenza nel senso più concreto  del termine. Chi scende in
	 mare per rompere un assedio, chi rischia in prima persona per portare sol
	idarietà a un popolo che subisce un genocidio, sa benissimo cosa sta facen
	do e perché. Non c'è bisogno di aggiungere altro, soprattutto davanti al s
	ilenzio, o alle falsità, di tanti parolai nostrani.</p><p>Ci vediamo vener
	dì.</p>
BEGIN:VALARM
ACTION:DISPLAY
DESCRIPTION:ROTTA COMUNE: NAVIGANDO IL MEDITERRANEO DELLA RESISTENZA
TRIGGER:-PT1H
END:VALARM
END:VEVENT
END:VCALENDAR
