BEGIN:VCALENDAR
VERSION:2.0
CALSCALE:GREGORIAN
PRODID:adamgibbons/ics
METHOD:PUBLISH
X-PUBLISHED-TTL:PT1H
BEGIN:VEVENT
UID:32078@puntello.org
SUMMARY:RENMIN - la cena popolare
DTSTAMP:20260425T004227Z
DTSTART:20260529T180000Z
DTEND:20260529T210000Z
DESCRIPTION:RENMIN – La cena popolare\n\n\n\n📆 Primo appuntamento: venerdì 
	28 febbraio\n\n\n\nOgni ultimo venerdì del mese si cucina\, si mangia e si
	 parla. Non è solo una\ncena\, è un momento per stare insieme e discutere 
	di resistenza\, di guerra\, di\nlotte sociali… ma anche di  perché il sugo
	 è sempre meglio il giorno dopo e di\nchi ha davvero vinto la lotta tra gu
	anciale e pancetta. Perché il cibo è\npolitica\, ma anche piacere e condiv
	isione.\n\n\n\nMenù della serata:\n\n– Antipasto\n\n– Pasta al sugo di cos
	tine\n\n- Dolce\n\n\n\n* alternativa vegana disponibile\n\n\n\n📍 Dove: via
	 Quinto Romano 17\n\n⏰ Quando: venerdì 28 febbraio e poi ogni ultimo vener
	dì del mese\n\n\n\nVieni\, porta amiche e fame. Prenotati!
URL:https://puntello.org/event/renmin-la-cena-popolare-16
LOCATION:Revdar - Via Quinto Romano 17\, Milano
STATUS:CONFIRMED
CATEGORIES:cena pop,popolare
X-ALT-DESC;FMTTYPE=text/html:<p><strong>RENMIN – La cena popolare</strong><
	/p><p></p><p><strong>📆 Primo appuntamento: venerdì 28 febbraio</strong></p
	><p></p><p><strong>Ogni ultimo venerdì del mese si cucina, si mangia e si 
	parla. Non è solo una cena, è un momento per stare insieme e discutere di 
	resistenza, di guerra, di lotte sociali… ma anche di&nbsp; perché il sugo 
	è sempre meglio il giorno dopo e di chi ha davvero vinto la lotta tra guan
	ciale e pancetta. Perché il cibo è politica, ma anche piacere e condivisio
	ne.</strong></p><p></p><p><strong>Menù della serata:</strong></p><p><stron
	g>– Antipasto</strong></p><p><strong>– Pasta al sugo di costine</strong></
	p><p><strong>- Dolce</strong></p><p></p><p><strong>* alternativa vegana di
	sponibile</strong></p><p></p><p><strong>📍 Dove: via Quinto Romano 17</stro
	ng></p><p><strong>⏰ Quando: venerdì 28 febbraio e poi ogni ultimo venerdì 
	del mese</strong></p><p></p><p><strong>Vieni, porta amiche e&nbsp;fame. Pr
	enotati!</strong></p>
BEGIN:VALARM
ACTION:DISPLAY
DESCRIPTION:RENMIN - la cena popolare
TRIGGER:-PT1H
END:VALARM
END:VEVENT
END:VCALENDAR
