BEGIN:VCALENDAR
VERSION:2.0
CALSCALE:GREGORIAN
PRODID:adamgibbons/ics
METHOD:PUBLISH
X-PUBLISHED-TTL:PT1H
BEGIN:VEVENT
UID:32060@puntello.org
SUMMARY:Proiezione di "SpinTime - Che fatica la democrazia"
DTSTAMP:20260420T134046Z
DTSTART:20260420T180000Z
DTEND:20260420T210000Z
URL:https://puntello.org/event/proiezione-di-spintime-che-fatica-la-democra
	zia
LOCATION:Socs26 - Via Celoria 22
STATUS:CONFIRMED
CATEGORIES:
BEGIN:VALARM
ACTION:DISPLAY
DESCRIPTION:Proiezione di "SpinTime - Che fatica la democrazia"
TRIGGER:-PT1H
END:VALARM
END:VEVENT
END:VCALENDAR
