BEGIN:VCALENDAR
VERSION:2.0
CALSCALE:GREGORIAN
PRODID:adamgibbons/ics
METHOD:PUBLISH
X-PUBLISHED-TTL:PT1H
BEGIN:VEVENT
UID:32055@puntello.org
SUMMARY:Piazzo Giocoleria
DTSTAMP:20260421T094624Z
DTSTART:20260420T130000Z
DTEND:20260420T160000Z
URL:https://puntello.org/event/piazzo-giocoleria
LOCATION:Socs26 - Via Celoria 22
STATUS:CONFIRMED
CATEGORIES:
BEGIN:VALARM
ACTION:DISPLAY
DESCRIPTION:Piazzo Giocoleria
TRIGGER:-PT1H
END:VALARM
END:VEVENT
END:VCALENDAR
