BEGIN:VCALENDAR
VERSION:2.0
CALSCALE:GREGORIAN
PRODID:adamgibbons/ics
METHOD:PUBLISH
X-PUBLISHED-TTL:PT1H
BEGIN:VEVENT
UID:32068@puntello.org
SUMMARY:Partita Stella Rossa Rugby VS Codogno\, Quarti di finale\, Inizio o
	re 15:00
DTSTAMP:20260421T193030Z
DTSTART:20260426T123000Z
DTEND:20260426T160000Z
DESCRIPTION:Partita Stella Rossa Rugby VS Codogno\n\nSport popolare\, autog
	estione e presabene!\n\nQuarti di finale\, campionato nazionale Rugby UISP
	\n\nKick off ore 15.00\n\nVia Giulio Bechi 2 Metro Gorla\n\nSupport your l
	ocal Rugby team!\n\nMischia le diversità\, placca il razzismo! Fino alla m
	eta!
URL:https://puntello.org/event/partita-stella-rossa-rugby-vs-codogno-quarti
	-di-finale-inizio-ore-1500
LOCATION:FPA - Via Bechi 2\, Milano
STATUS:CONFIRMED
CATEGORIES:
X-ALT-DESC;FMTTYPE=text/html:<p>Partita Stella Rossa Rugby VS Codogno</p><p
	>Sport popolare, autogestione e presabene!</p><p>Quarti di finale, campion
	ato nazionale Rugby UISP</p><p>Kick off ore 15.00 </p><p>Via Giulio Bechi 
	2 Metro Gorla</p><p>Support your local Rugby team! </p><p>Mischia le diver
	sità, placca il razzismo! Fino alla meta!</p>
BEGIN:VALARM
ACTION:DISPLAY
DESCRIPTION:Partita Stella Rossa Rugby VS Codogno, Quarti di finale, Inizio
	 ore 15:00
TRIGGER:-PT1H
END:VALARM
END:VEVENT
END:VCALENDAR
