BEGIN:VCALENDAR
VERSION:2.0
CALSCALE:GREGORIAN
PRODID:adamgibbons/ics
METHOD:PUBLISH
X-PUBLISHED-TTL:PT1H
BEGIN:VEVENT
UID:32058@puntello.org
SUMMARY:Lumeteca
DTSTAMP:20260420T131852Z
DTSTART:20260422T180000Z
DTEND:20260422T203000Z
DESCRIPTION:Ci vediamo alla LUMeteca MERCOLEDI' 22 APRILE alle ore 20:00 pe
	r la proiezione\ndi "Il Pianeta Verde"\, film del 1996 diretto da Coline S
	erreau.\n\nGli abitanti del Pianeta Verde sono immersi nella quiete e nell
	’armonia\,\nmantenuta in vita dalla profonda connessione tra loro e la nat
	ura\, parti\ndifferenti di uno stesso organismo. La loro società si fonda 
	sulla cooperazione\ne su un radicato rispetto per la vita. Mila (interpret
	ata dalla stessa Coline\nSerreau)\, che conosce poco delle sue origini in 
	parte terrestri\, decide di\nessere trasportata sulla Terra alla ricerca d
	i esse. Si ritrova in un parco di\nParigi\, in mezzo al traffico e all'inq
	uinamento\, dove il cibo e l'acqua sono\nvelenosi e dove le persone si odi
	ano a vicenda. I suoi modi gentili\, diretti e\nsemplici la rendono immedi
	atamente un’anomalia\, una pazza da ignorare. Mila\nutilizza i suoi poteri
	 per evadere dai meccanismi di performance terrestri\,\ndisconnette le per
	sone per renderle meno “civilizzate”\, più autentiche. Il film\nricostruis
	ce i danni del mondo occidentale attraverso l’innocenza di Mila che\naccom
	pagna a riflettere sulla società moderna\, sul consumismo\,\nsull’inquinam
	ento\, sul patriarcato e sul mondo del lavoro alienante.\n\nEntrata gratui
	ta
URL:https://puntello.org/event/lumeteca-5
LOCATION:Lume_occupato - Viale vittorio veneto 23
STATUS:CONFIRMED
CATEGORIES:
X-ALT-DESC;FMTTYPE=text/html:<p>Ci vediamo alla LUMeteca MERCOLEDI' 22 APRI
	LE alle ore 20:00 per la proiezione di "Il Pianeta Verde", film del 1996 d
	iretto da Coline Serreau.<br><br>Gli abitanti del Pianeta Verde sono immer
	si nella quiete e nell’armonia, mantenuta in vita dalla profonda connessio
	ne tra loro e la natura, parti differenti di uno stesso organismo. La loro
	 società si fonda sulla cooperazione e su un radicato rispetto per la vita
	. Mila (interpretata dalla stessa Coline Serreau), che conosce poco delle 
	sue origini in parte terrestri, decide di essere trasportata sulla Terra a
	lla ricerca di esse. Si ritrova in un parco di Parigi, in mezzo al traffic
	o e all'inquinamento, dove il cibo e l'acqua sono velenosi e dove le perso
	ne si odiano a vicenda. I suoi modi gentili, diretti e semplici la rendono
	 immediatamente un’anomalia, una pazza da ignorare. Mila utilizza i suoi p
	oteri per evadere dai meccanismi di performance terrestri, disconnette le 
	persone per renderle meno “civilizzate”, più autentiche. Il film ricostrui
	sce i danni del mondo occidentale attraverso l’innocenza di Mila che accom
	pagna a riflettere sulla società moderna, sul consumismo, sull’inquinament
	o, sul patriarcato e sul mondo del lavoro alienante.</p><p>Entrata gratuit
	a</p>
BEGIN:VALARM
ACTION:DISPLAY
DESCRIPTION:Lumeteca
TRIGGER:-PT1H
END:VALARM
END:VEVENT
END:VCALENDAR
