BEGIN:VCALENDAR
VERSION:2.0
CALSCALE:GREGORIAN
PRODID:adamgibbons/ics
METHOD:PUBLISH
X-PUBLISHED-TTL:PT1H
BEGIN:VEVENT
UID:32062@puntello.org
SUMMARY:Laboratoria Teatrale Autogestita
DTSTAMP:20260420T151503Z
DTSTART:20260420T150000Z
DTEND:20260420T200000Z
DESCRIPTION:La primavera è in arrivo\, e con lei si risveglia la nostra vog
	lia di fare le\ndrama queen…\n\nSe stai cercando uno spazio dove andare in
	 scena\, che tu sia alle prime armi o\nuna veterana del palcoscenico\, que
	sta laboratoria fa al caso tuo! Esploreremo\ninsieme spazi\, emozioni e mo
	vimenti\, in maniera autogestita\, gratuita e non\ngiudicante\, per impara
	re e divertirci tutte insieme💛\n\n📍 DOVE? In SOCS (Via Celoria 26\, Milano
	)\n\n🕔 QUANDO? Ogni lunedì dalle 17:00 alle 22:00\n\n🧦 COSA MI SERVE? Vogl
	ia di mettersi in gioco\, vestiti comodi e calzini (meglio\nse antiscivolo
	)\n\nCi vediamo in scena!
URL:https://puntello.org/event/laboratoria-teatrale-autogestita-6
LOCATION:Socs26 - Via Celoria 22
STATUS:CONFIRMED
CATEGORIES:
X-ALT-DESC;FMTTYPE=text/html:<p>La primavera è in arrivo, e con lei si risv
	eglia la nostra voglia di fare le drama queen…</p><p>Se stai cercando uno 
	spazio dove andare in scena, che tu sia alle prime armi o una veterana del
	 palcoscenico, questa laboratoria fa al caso tuo! Esploreremo insieme spaz
	i, emozioni e movimenti, in maniera autogestita, gratuita e non giudicante
	, per imparare e divertirci tutte insieme💛</p><p>📍 DOVE? In SOCS (Via Celo
	ria 26, Milano)</p><p>🕔  QUANDO? Ogni lunedì dalle 17:00 alle 22:00 </p><p
	>🧦 COSA MI SERVE? Voglia di mettersi in gioco, vestiti comodi e calzini (m
	eglio se antiscivolo)</p><p>Ci vediamo in scena! </p>
BEGIN:VALARM
ACTION:DISPLAY
DESCRIPTION:Laboratoria Teatrale Autogestita
TRIGGER:-PT1H
END:VALARM
END:VEVENT
END:VCALENDAR
