BEGIN:VCALENDAR
VERSION:2.0
CALSCALE:GREGORIAN
PRODID:adamgibbons/ics
METHOD:PUBLISH
X-PUBLISHED-TTL:PT1H
BEGIN:VEVENT
UID:32073@puntello.org
SUMMARY:gruppo di lettura bucefalo - territorio e metamorfosi\, baudrillard
DTSTAMP:20260423T132259Z
DTSTART:20260521T163000Z
DESCRIPTION:ciao! siamo il gruppo di lettura bucefalo\, ci vediamo mensilme
	nte per leggere\,\nriflettere\, chiacchierare su animalità e antispecismo.
	\n\ngiovedì 21 maggio ci vediamo per leggere Territorio e metamorfosi di\n
	Baudrillard\, testo che si interroga sullo sfruttamento\, materiale e anch
	e\nsimbolico\, degli animali - portiamo noi le dispense stampate\, ma se v
	uoi una\ncopia digitale prima scrivici. riprendiamo a leggere dove ci siam
	o fermat la\nscorsa volta\, ma se lo scorso mese non c'eri siamo felici se
	 vieni lo stesso:\nproviamo a raccontarci che cosa abbiamo letto e capito\
	, e poi proseguiamo\ninsieme. l'appuntamento è per le 18.30 ad allons enfa
	nts\, associazione in\npiazzale martini 11\, a milano. portiamo qualche me
	renda (se vuoi\, portale anche\ntu)\, le dispense e un pc per chi vuole un
	 collegamento da remoto. per qualsiasi\ncosa scrivici! puoi usare bianot@t
	utamail.com
URL:https://puntello.org/event/gruppo-di-lettura-bucefalo-territorio-e-meta
	morfosi-baudrillard
LOCATION:Associazione Allons Enfants - piazzale Martini 11\, 20137
STATUS:CONFIRMED
CATEGORIES:animali,antispecismo,convivialità,gruppo di lettura,letteratura,
	merenda
X-ALT-DESC;FMTTYPE=text/html:<p>ciao! siamo il gruppo di lettura bucefalo, 
	ci vediamo mensilmente per leggere, riflettere, chiacchierare su animalità
	 e antispecismo.</p><p>giovedì 21 maggio ci vediamo per leggere Territorio
	 e metamorfosi di Baudrillard, testo che si interroga sullo sfruttamento, 
	materiale e anche simbolico, degli animali - portiamo noi le dispense stam
	pate, ma se vuoi una copia digitale prima scrivici. riprendiamo a leggere 
	dove ci siamo fermat la scorsa volta, ma se lo scorso mese non c'eri siamo
	 felici se vieni lo stesso: proviamo a raccontarci che cosa abbiamo letto 
	e capito, e poi proseguiamo insieme. l'appuntamento è per le 18.30 ad allo
	ns enfants, associazione in piazzale martini 11, a milano. portiamo qualch
	e merenda (se vuoi, portale anche tu), le dispense e un pc per chi vuole u
	n collegamento da remoto. per qualsiasi cosa scrivici! puoi usare bianot@t
	utamail.com</p>
BEGIN:VALARM
ACTION:DISPLAY
DESCRIPTION:gruppo di lettura bucefalo - territorio e metamorfosi, baudrill
	ard
TRIGGER:-PT1H
END:VALARM
END:VEVENT
END:VCALENDAR
