BEGIN:VCALENDAR
VERSION:2.0
CALSCALE:GREGORIAN
PRODID:adamgibbons/ics
METHOD:PUBLISH
X-PUBLISHED-TTL:PT1H
BEGIN:VEVENT
UID:32072@puntello.org
SUMMARY:Femminismi e liberazione animale: conferenza a cura di Federica Tim
	eto e Carlotta Cossutta
DTSTAMP:20260422T223702Z
DTSTART:20260424T143000Z
DTEND:20260424T163000Z
DESCRIPTION:Si può essere femministe senza essere vegane?\n\n📖”Femminismi e
	 liberazione animale”: conferenza a cura di Federica Timeto.\nPresenta Car
	lotta Cossutta\n📅 Venerdì 24 aprile\, ore 16:30\n📍Università degli Studi d
	i Milano - via Festa del Perdono 7 - aula 311\n\nL’animalizzazione è stata
	 ed è tutt’ora una delle chiavi dell’oppressione umana\ne non\, utilizzata
	 non solo nei confronti degli animali ma anche verso donne\,\npersone razz
	ializzate e soggettività queer.\n\nA partire dal testo “Animali si diventa
	. Femminismi e liberazione animale”\n(2024) di Federica Timeto\, l’incontr
	o si propone di esplorare le intersezioni\ntra femminismo e liberazione an
	imale\, ricostruendo le molteplici storie\ndell’incontro tra queste due lo
	tte. Al centro\, la necessità di superare le\ncategorie politiche di umano
	 e animale\, per orientarsi in direzione di una\ngiustizia sociale multisp
	ecie capace di sovvertire le gerarchie imposte di\nmaschile/femminile\, um
	ano/non umano\, natura/cultura.\n\nDa qui\, l’idea che le pratiche di libe
	razione animale e le pratiche femministe\nnon possono essere pensate separ
	atamente ma si intrecciano in un orizzonte\npolitico comune volto a sovver
	tire radicalmente i rapporti di dominio imposti da\nun sistema specista et
	erocispatriarcale.\n\nDispense disponibili sul gruppo Whatsapp. Link in bi
	o su Instagram:\n@antispecist3.unimi
URL:https://puntello.org/event/femminismi-e-liberazione-animale-conferenza-
	a-cura-di-federica-timeto-e-carlotta-cossutta
LOCATION:Università degli studi di Milano - Milano\, via Festa del Perdono 
	7
STATUS:CONFIRMED
CATEGORIES:antispecismo,femminismo,transfemminismo,vegan
X-ALT-DESC;FMTTYPE=text/html:<p>Si può essere femministe senza essere vegan
	e?<br><br>📖”Femminismi e liberazione animale”: conferenza a cura di Federi
	ca Timeto. Presenta Carlotta Cossutta<br>📅 Venerdì 24 aprile, ore 16:30<br
	>📍Università degli Studi di Milano - via Festa del Perdono 7 - aula 311<br
	><br>L’animalizzazione è stata ed è tutt’ora una delle chiavi dell’oppress
	ione umana e non, utilizzata non solo nei confronti degli animali ma anche
	 verso donne, persone razzializzate e soggettività queer.<br><br>A partire
	 dal testo “Animali si diventa. Femminismi e liberazione animale” (2024) d
	i Federica Timeto, l’incontro si propone di esplorare le intersezioni tra 
	femminismo e liberazione animale, ricostruendo le molteplici storie dell’i
	ncontro tra queste due lotte. Al centro, la necessità di superare le categ
	orie politiche di umano e animale, per orientarsi in direzione di una gius
	tizia sociale multispecie capace di sovvertire le gerarchie imposte di mas
	chile/femminile, umano/non umano, natura/cultura.<br><br>Da qui, l’idea ch
	e le pratiche di liberazione animale e le pratiche femministe non possono 
	essere pensate separatamente ma si intrecciano in un orizzonte politico co
	mune volto a sovvertire radicalmente i rapporti di dominio imposti da un s
	istema specista eterocispatriarcale.<br><br>Dispense disponibili sul grupp
	o Whatsapp. Link in bio su Instagram: @antispecist3.unimi</p>
BEGIN:VALARM
ACTION:DISPLAY
DESCRIPTION:Femminismi e liberazione animale: conferenza a cura di Federica
	 Timeto e Carlotta Cossutta
TRIGGER:-PT1H
END:VALARM
END:VEVENT
END:VCALENDAR
