BEGIN:VCALENDAR
VERSION:2.0
CALSCALE:GREGORIAN
PRODID:adamgibbons/ics
METHOD:PUBLISH
X-PUBLISHED-TTL:PT1H
BEGIN:VEVENT
UID:32079@puntello.org
SUMMARY:CONCERTO BENEFIT INGUAIATI - UNDERSOUND vs G FARMERZ
DTSTAMP:20260425T163642Z
DTSTART:20260509T183000Z
URL:https://puntello.org/event/concerto-benefit-inguaiati-undersound-vs-g-f
	armerz
LOCATION:collettivo anarchico Bandiera Nera - viale Monza 255
STATUS:CONFIRMED
CATEGORIES:
BEGIN:VALARM
ACTION:DISPLAY
DESCRIPTION:CONCERTO BENEFIT INGUAIATI - UNDERSOUND vs G FARMERZ
TRIGGER:-PT1H
END:VALARM
END:VEVENT
END:VCALENDAR
