BEGIN:VCALENDAR
VERSION:2.0
CALSCALE:GREGORIAN
PRODID:adamgibbons/ics
METHOD:PUBLISH
X-PUBLISHED-TTL:PT1H
BEGIN:VEVENT
UID:32064@puntello.org
SUMMARY:Cena e asse aperta di Puntello!
DTSTAMP:20260420T202551Z
DTSTART:20260522T173000Z
DTEND:20260522T213000Z
DESCRIPTION:Le piattaforme social commerciali ci stanno strette. Tra censur
	a\, vendita dei\nnostri dati\, e dinamiche che premiamo l'aggressività nel
	le interazioni\, stare su\nqueste piattaforme ci ruba tempo\, attenzione\,
	 e allegria. Lo sforzo necessario\nper mantenere i nostri contenuti visibi
	li a un 'pubblico' ampio ci ha dato un\nlavoro non pagato. Di respirare la
	 stessa aria di Musk e Zuckerberg non ci va e\nabbiam deciso di ritagliarc
	i uno spazio digitale di libertà.\n\nDa 6 anni puntello dà spazio all'agen
	da condivisa della Milano ribelle\, fornendo\nuna bacheca per la pubblicaz
	ione di eventi ed iniziative. Puntello non mostra\ncontenuti personalizzat
	i in base a chi lo usa e non premia la visibilità di un\nevento in base a 
	quanto tempo passa sul sito chi lo ha pubblicato. I post sono\nordinati so
	lo cronologicamente e bisogna ancora girare le pagine!\n\nLe scelte riguar
	do le modalità e l'interfaccia di puntello sono state prese per\nmotivi pr
	ecisi\, che ci va di raccontare e discutere con tutt le utenti: se in\nque
	sti anni hai pubblicato qualcosa su puntello o vorresti farlo\, se hai dub
	bi\nsul funzionamento della piattaforma o la vorresti diversa\, se semplic
	emente vuoi\nconoscere le persone che amministrano il sito...passa alla no
	stra assemblea\naperta!\n\nIl 22 maggio 2026 alle 19:30 ci troviamo al T28
	 per discutere di come gestire\nquesta risorsa collettiva.
URL:https://puntello.org/event/cena-e-asse-aperta-di-puntello
LOCATION:COA T28 - Via dei Transiti 28\, Milano
STATUS:CONFIRMED
CATEGORIES:cibo,convivialità,hacking,hacktivism,tecnologie
X-ALT-DESC;FMTTYPE=text/html:<p>Le piattaforme social commerciali ci stanno
	 strette. Tra censura, vendita dei nostri dati, e dinamiche che premiamo l
	'aggressività nelle interazioni, stare su queste piattaforme ci ruba tempo
	, attenzione, e allegria. Lo sforzo necessario per mantenere i nostri cont
	enuti visibili a un 'pubblico' ampio ci ha dato un lavoro non pagato. Di r
	espirare la stessa aria di Musk e Zuckerberg non ci va e abbiam deciso di 
	ritagliarci uno spazio digitale di libertà.<br><br>Da 6 anni puntello dà s
	pazio all'agenda condivisa della Milano ribelle, fornendo una bacheca per 
	la pubblicazione di eventi ed iniziative. Puntello non mostra contenuti pe
	rsonalizzati in base a chi lo usa e non premia la visibilità di un evento 
	in base a quanto tempo passa sul sito chi lo ha pubblicato. I post sono or
	dinati solo cronologicamente e bisogna ancora girare le pagine!<br><br>Le 
	scelte riguardo le modalità e l'interfaccia di puntello sono state prese p
	er motivi precisi, che ci va di raccontare e discutere con tutt le utenti:
	 se in questi anni hai pubblicato qualcosa su puntello o vorresti farlo, s
	e hai dubbi sul funzionamento della piattaforma o la vorresti diversa, se 
	semplicemente vuoi conoscere le persone che amministrano il sito...passa a
	lla nostra assemblea aperta!<br><br>Il 22 maggio 2026 alle 19:30 ci trovia
	mo al T28 per discutere di come gestire questa risorsa collettiva.</p>
BEGIN:VALARM
ACTION:DISPLAY
DESCRIPTION:Cena e asse aperta di Puntello!
TRIGGER:-PT1H
END:VALARM
END:VEVENT
END:VCALENDAR
