BEGIN:VCALENDAR
VERSION:2.0
CALSCALE:GREGORIAN
PRODID:adamgibbons/ics
METHOD:PUBLISH
X-PUBLISHED-TTL:PT1H
BEGIN:VEVENT
UID:32052@puntello.org
SUMMARY:Benefit Piercing e Tattoo Session
DTSTAMP:20260421T094624Z
DTSTART:20260417T130000Z
DTEND:20260417T160000Z
URL:https://puntello.org/event/benefit-piercing-e-tattoo-session
LOCATION:Socs26 - Via Celoria 22
STATUS:CONFIRMED
CATEGORIES:
BEGIN:VALARM
ACTION:DISPLAY
DESCRIPTION:Benefit Piercing e Tattoo Session
TRIGGER:-PT1H
END:VALARM
END:VEVENT
END:VCALENDAR
