BEGIN:VCALENDAR
VERSION:2.0
CALSCALE:GREGORIAN
PRODID:adamgibbons/ics
METHOD:PUBLISH
X-PUBLISHED-TTL:PT1H
BEGIN:VEVENT
UID:32059@puntello.org
SUMMARY:Autoformazione
DTSTAMP:20260420T133752Z
DTSTART:20260426T160000Z
DTEND:20260426T190000Z
DESCRIPTION:Domenica 26 aprile ci vediamo per un'altro incontro di autoform
	azione politica!\n\nDurante questo incontro rifletteremo su "chi siamo\, c
	osa facciamo?" parlando\ndella militanza\, attivismo e volontariato basand
	oci sul libro di Silvia Federici\nintitolato "La militanza gioiosa"\n\nVi 
	aspettiamo dalle 18
URL:https://puntello.org/event/autoformazione
LOCATION:Lume_occupato - Viale vittorio veneto 23
STATUS:CONFIRMED
CATEGORIES:
X-ALT-DESC;FMTTYPE=text/html:<p>Domenica 26 aprile ci vediamo per un'altro 
	incontro di autoformazione politica!</p><p>Durante questo incontro riflett
	eremo su "chi siamo, cosa facciamo?" parlando della militanza, attivismo e
	 volontariato basandoci sul libro di Silvia Federici intitolato "La milita
	nza gioiosa"</p><p>Vi aspettiamo dalle 18 </p>
BEGIN:VALARM
ACTION:DISPLAY
DESCRIPTION:Autoformazione
TRIGGER:-PT1H
END:VALARM
END:VEVENT
END:VCALENDAR
