BEGIN:VCALENDAR
VERSION:2.0
CALSCALE:GREGORIAN
PRODID:adamgibbons/ics
METHOD:PUBLISH
X-PUBLISHED-TTL:PT1H
BEGIN:VEVENT
UID:32077@puntello.org
SUMMARY:Autoformazione su CCNL Enti locali
DTSTAMP:20260424T192045Z
DTSTART:20260507T173000Z
DTEND:20260507T193000Z
DESCRIPTION:Quarto appuntamento di autoformazione promosso dalle biblioteca
	rie della tua\ncittà col sostegno delle liste sindacali di base (SIAL/SLAI
	 COBAS\, USI\, CUB)\n\nDue ore fitte per comprendere come funziona il nost
	ro contratto di lavoro.\nPortate da mangiare quello che vi piacerebbe trov
	are in tavola.
URL:https://puntello.org/event/autoformazione-su-ccnl-enti-locali
LOCATION:Piano Terra - via Federico Confalonieri 3\,  Milano
STATUS:CONFIRMED
CATEGORIES:biblioteche,Milano
X-ALT-DESC;FMTTYPE=text/html:<p>Quarto appuntamento di autoformazione promo
	sso dalle bibliotecarie della tua città col sostegno delle liste sindacali
	 di base (SIAL/SLAI COBAS, USI, CUB)</p><p>Due ore fitte per comprendere c
	ome funziona il nostro contratto di lavoro. Portate da mangiare quello che
	 vi piacerebbe trovare in tavola.</p>
BEGIN:VALARM
ACTION:DISPLAY
DESCRIPTION:Autoformazione su CCNL Enti locali
TRIGGER:-PT1H
END:VALARM
END:VEVENT
END:VCALENDAR
