BEGIN:VCALENDAR
VERSION:2.0
CALSCALE:GREGORIAN
PRODID:adamgibbons/ics
METHOD:PUBLISH
X-PUBLISHED-TTL:PT1H
BEGIN:VEVENT
UID:32076@puntello.org
SUMMARY:25 aprile partigiano
DTSTAMP:20260424T201228Z
DTSTART:20260425T110000Z
DESCRIPTION:ATTENZIONE: IL CONCENTRAMENTO E’ STATO SPOSTATO IN PIAZZA OBERD
	AN ALLE ORE 13\n\nPer una Palestina libera dal fiume al mare!\n\nDopo 30 m
	esi di cortei a Milano la MILANO PALESTINESE ha deciso di manifestare\nil 
	proprio dissenso con una PIAZZA FINALE DIFFERENTE E SEPARATA dalla piazza\
	nufficiale. Vogliamo rendere evidente in occasione del 25 aprile la lontan
	anza\npolitica tra una coerente opposizione al genocidio e il sostegno sen
	za\ncondizioni al popolo palestinese e alla sua Resistenza e chi la parola
	 genocidio\nnon l’ha mai pronunciata. E chi per la propria contiguità al s
	ionismo ha\nparlato di Palestina solo davanti allo scempio dei corpi di do
	nne\, uomini\,\nbambini e bambine palestinesi ma ha sempre CONDANNATO LA S
	UA LEGITTIMA\nRESISTENZA.\n\nParteciperemo e invitiamo tutte e tutti a par
	tecipare allo SPEZZONE\nPALESTINESE organizzato dalle Associazioni Palesti
	nesi con \n\nCONCENTRAMENTO PER TUTTE E TUTTI ORE 13 ang. PIAZZA OBERDAN C
	ON PORTA\nVENEZIA e TERMINE IN PIAZZA FONTANA\n\nPER UN 25 APRILE ANTIMPER
	IALISTA\, ANTIFASCISTA\, ANTISIONISTA E IL GENOCIDIO\nPALESTINESE\n\nCHE I
	NDICHI UN’ALTERNATIVA DI CLASSE ALLA GUERRA IMPERIALISTA E E AL RIARMO! \n
	\nA FIANCO DEL POPOLO PALESTINESE E DELLA SUA RESISTENZA\n\nPER UNA SOCIET
	A’ DI LIBER@ E UGUALI\n\nCON LA PALESTINA NEL CUORE!\n\nAntifascismo è ant
	isionismo
URL:https://puntello.org/event/25-aprile-partigiano
LOCATION:Palestro - Palestro\, Milano
STATUS:CONFIRMED
CATEGORIES:antifascismo,FreePalestine
X-ALT-DESC;FMTTYPE=text/html:<p>ATTENZIONE: IL CONCENTRAMENTO E’ STATO SPOS
	TATO IN PIAZZA OBERDAN ALLE ORE 13</p><p><strong>Per una Palestina libera 
	dal fiume al mare!</strong></p><p>Dopo 30 mesi di cortei a Milano&nbsp;la&
	nbsp;<strong>MILANO PALESTINESE</strong>&nbsp;ha deciso di&nbsp;manifestar
	e il proprio dissenso con una&nbsp;<strong>PIAZZA FINALE DIFFERENTE E SEPA
	RATA&nbsp;</strong>dalla piazza ufficiale. Vogliamo rendere evidente in oc
	casione del&nbsp;<strong>25 aprile&nbsp;</strong>la lontananza politica tr
	a una&nbsp;coerente opposizione al genocidio e il&nbsp;sostegno senza cond
	izioni al popolo palestinese e alla sua Resistenza e chi la parola genocid
	io non l’ha mai pronunciata. E chi per la&nbsp;propria contiguità&nbsp;al 
	sionismo ha parlato&nbsp;di Palestina solo davanti allo scempio dei corpi 
	di donne, uomini, bambini e bambine palestinesi ma&nbsp;<strong>ha sempre 
	CONDANNATO LA SUA LEGITTIMA RESISTENZA</strong>.</p><p>Parteciperemo e inv
	itiamo tutte e tutti a partecipare allo&nbsp;<strong>SPEZZONE PALESTINESE&
	nbsp;</strong>organizzato dalle Associazioni Palestinesi con&nbsp;</p><p><
	strong>CONCENTRAMENTO PER TUTTE E TUTTI ORE 13 ang. PIAZZA OBERDAN CON POR
	TA VENEZIA&nbsp;e&nbsp;TERMINE IN&nbsp;PIAZZA FONTANA</strong></p><p><stro
	ng>PER UN 25 APRILE ANTIMPERIALISTA, ANTIFASCISTA, ANTISIONISTA E IL GENOC
	IDIO PALESTINESE</strong></p><p><strong>CHE INDICHI UN’ALTERNATIVA DI CLAS
	SE ALLA&nbsp;GUERRA IMPERIALISTA E E AL RIARMO!&nbsp;</strong></p><p><stro
	ng>A FIANCO DEL POPOLO PALESTINESE E DELLA SUA RESISTENZA</strong></p><p><
	strong>PER UNA SOCIETA’ DI LIBER@ E UGUALI</strong></p><p>CON LA PALESTINA
	 NEL CUORE!</p><p>Antifascismo è antisionismo</p>
BEGIN:VALARM
ACTION:DISPLAY
DESCRIPTION:25 aprile partigiano
TRIGGER:-PT1H
END:VALARM
END:VEVENT
END:VCALENDAR
